BEGIN:VCALENDAR
VERSION:2.0
PRODID:-//Contact Entreprises - ECPv6.15.11//NONSGML v1.0//EN
CALSCALE:GREGORIAN
METHOD:PUBLISH
X-WR-CALNAME:Contact Entreprises
X-ORIGINAL-URL:https://www.contact-entreprises.net
X-WR-CALDESC:Évènements pour Contact Entreprises
REFRESH-INTERVAL;VALUE=DURATION:PT1H
X-Robots-Tag:noindex
X-PUBLISHED-TTL:PT1H
BEGIN:VTIMEZONE
TZID:Europe/Paris
BEGIN:DAYLIGHT
TZOFFSETFROM:+0100
TZOFFSETTO:+0200
TZNAME:CEST
DTSTART:20240331T010000
END:DAYLIGHT
BEGIN:STANDARD
TZOFFSETFROM:+0200
TZOFFSETTO:+0100
TZNAME:CET
DTSTART:20241027T010000
END:STANDARD
BEGIN:DAYLIGHT
TZOFFSETFROM:+0100
TZOFFSETTO:+0200
TZNAME:CEST
DTSTART:20250330T010000
END:DAYLIGHT
BEGIN:STANDARD
TZOFFSETFROM:+0200
TZOFFSETTO:+0100
TZNAME:CET
DTSTART:20251026T010000
END:STANDARD
BEGIN:DAYLIGHT
TZOFFSETFROM:+0100
TZOFFSETTO:+0200
TZNAME:CEST
DTSTART:20260329T010000
END:DAYLIGHT
BEGIN:STANDARD
TZOFFSETFROM:+0200
TZOFFSETTO:+0100
TZNAME:CET
DTSTART:20261025T010000
END:STANDARD
END:VTIMEZONE
BEGIN:VEVENT
DTSTART;TZID=Europe/Paris:20251002T180000
DTEND;TZID=Europe/Paris:20251002T220000
DTSTAMP:20260419T214034
CREATED:20251021T130840Z
LAST-MODIFIED:20251021T134827Z
UID:402285-1759428000-1759442400@www.contact-entreprises.net
SUMMARY:Assemblée générale de l’ADPAVAB
DESCRIPTION:Cette année\, l’Adpavab célèbre une étape majeure : 20 ans d’actions au service des entreprises du Sud du Val-d’Oise et du basin argenteuillais. \nL’opportunité de revenir sur deux décennies de projets\, d’échanges et de développement au sein de notre réseau. Une rétrospective sera présentée\, suivie de moments festifs et de dégustations culinaires dans une ambiance conviviale. \nInscription : 45 euros \nCarrousel du Moulin d’Orgemont – 2\, rue du Clos des Moines à Argenteuil
URL:https://www.contact-entreprises.net/event/assemblee-generale-de-ladpavab/
ATTACH;FMTTYPE=image/jpeg:https://www.contact-entreprises.net/wp-content/uploads/2025/10/assemblee-generale-adpavab-2-octobre-2025-1.jpg
END:VEVENT
END:VCALENDAR