BEGIN:VCALENDAR
VERSION:2.0
PRODID:-//Contact Entreprises - ECPv6.15.11//NONSGML v1.0//EN
CALSCALE:GREGORIAN
METHOD:PUBLISH
X-WR-CALNAME:Contact Entreprises
X-ORIGINAL-URL:https://www.contact-entreprises.net
X-WR-CALDESC:Évènements pour Contact Entreprises
REFRESH-INTERVAL;VALUE=DURATION:PT1H
X-Robots-Tag:noindex
X-PUBLISHED-TTL:PT1H
BEGIN:VTIMEZONE
TZID:Europe/Paris
BEGIN:DAYLIGHT
TZOFFSETFROM:+0100
TZOFFSETTO:+0200
TZNAME:CEST
DTSTART:20250330T010000
END:DAYLIGHT
BEGIN:STANDARD
TZOFFSETFROM:+0200
TZOFFSETTO:+0100
TZNAME:CET
DTSTART:20251026T010000
END:STANDARD
BEGIN:DAYLIGHT
TZOFFSETFROM:+0100
TZOFFSETTO:+0200
TZNAME:CEST
DTSTART:20260329T010000
END:DAYLIGHT
BEGIN:STANDARD
TZOFFSETFROM:+0200
TZOFFSETTO:+0100
TZNAME:CET
DTSTART:20261025T010000
END:STANDARD
BEGIN:DAYLIGHT
TZOFFSETFROM:+0100
TZOFFSETTO:+0200
TZNAME:CEST
DTSTART:20270328T010000
END:DAYLIGHT
BEGIN:STANDARD
TZOFFSETFROM:+0200
TZOFFSETTO:+0100
TZNAME:CET
DTSTART:20271031T010000
END:STANDARD
END:VTIMEZONE
BEGIN:VEVENT
DTSTART;TZID=Europe/Paris:20260122T120000
DTEND;TZID=Europe/Paris:20260122T143000
DTSTAMP:20260419T170825
CREATED:20260115T130744Z
LAST-MODIFIED:20260115T134853Z
UID:402679-1769083200-1769092200@www.contact-entreprises.net
SUMMARY:Déjeuner club ACE au resto pédagogique de la CMA 95
DESCRIPTION:A la découverte de la cuisine des apprentis de la Chambre de Métiers et de l’Artisanat\n\n\n\n\n\nLors de ce déjeuner au restaurant pédagogique\, le club invite la nouvelle présidente des FCE FRANCE\, dirigeante argenteuillaise\, Carole Gratzmuller. \nUne belle occasion d’échanger et de se retrouver ! \n\n\n\nhttps://admin.weezevent.com/ticket/O844501/E1525465/dashboard\n\n\n\n  \n 
URL:https://www.contact-entreprises.net/event/dejeuner-club-ace/
LOCATION:CMA Formation\, 1 Avenue du Parc\, 95000\, CergyFrance\, CMA Formation\, 1 Avenue du Parc\, 95000\, CergyFrance\, France
ATTACH;FMTTYPE=image/jpeg:https://www.contact-entreprises.net/wp-content/uploads/2025/11/IMG_6599-scaled.jpeg
END:VEVENT
BEGIN:VEVENT
DTSTART;VALUE=DATE:20260130
DTEND;VALUE=DATE:20260131
DTSTAMP:20260419T170825
CREATED:20260114T130531Z
LAST-MODIFIED:20260115T135535Z
UID:402662-1769731200-1769817599@www.contact-entreprises.net
SUMMARY:Cérémonie des vœux du Medef Val d'Oise à l'Aren'Ice de Cergy
DESCRIPTION:Le Medef Val d’Oise et ses équipes organise la cérémonie des vœux 2026 qui se tiendra à l’Aren’Ice de Cergy à partir de 12h
URL:https://www.contact-entreprises.net/event/nouvel-evenement/
LOCATION:Aren’Ice\, Zac des Linandes 33 avenue de la Plaine des Sports\, 95800\, CERGY France\, Cergy
ATTACH;FMTTYPE=image/png:https://www.contact-entreprises.net/wp-content/uploads/2026/01/iwhnLxWN3NrJ.png
END:VEVENT
END:VCALENDAR